BEGIN:VCALENDAR
VERSION:2.0
PRODID:-//Standards and Interoperability Lab - Asia - ECPv4.9.13//NONSGML v1.0//EN
CALSCALE:GREGORIAN
METHOD:PUBLISH
X-WR-CALNAME:Standards and Interoperability Lab - Asia
X-ORIGINAL-URL:http://sil-asia.org
X-WR-CALDESC:Events for Standards and Interoperability Lab - Asia
BEGIN:VTIMEZONE
TZID:UTC
BEGIN:STANDARD
TZOFFSETFROM:+0000
TZOFFSETTO:+0000
TZNAME:UTC
DTSTART:20200101T000000
END:STANDARD
END:VTIMEZONE
BEGIN:VEVENT
DTSTART;VALUE=DATE:20200902
DTEND;VALUE=DATE:20200905
DTSTAMP:20260425T131830
CREATED:20200815T015924Z
LAST-MODIFIED:20200815T015924Z
UID:2544-1599004800-1599263999@sil-asia.org
SUMMARY:6th Annual Asia Healthcare Week by Informa Connect Singapore
DESCRIPTION: \nInforma Connect Singapore is going virtual\, providing you with all in one access to 3 co-located conferences. Join the healthcare heroes around the world as they share success stories that can inspire and shape new frontiers for patient experience\, health tech\, and innovation. \nLearn more: https://www.asiahealthcaresummit.com/ \n
URL:http://sil-asia.org/event/6th-annual-asia-healthcare-week-by-informa-connect-singapore/
END:VEVENT
END:VCALENDAR