BEGIN:VCALENDAR
VERSION:2.0
PRODID:-//Standards and Interoperability Lab - Asia - ECPv4.9.13//NONSGML v1.0//EN
CALSCALE:GREGORIAN
METHOD:PUBLISH
X-WR-CALNAME:Standards and Interoperability Lab - Asia
X-ORIGINAL-URL:http://sil-asia.org
X-WR-CALDESC:Events for Standards and Interoperability Lab - Asia
BEGIN:VTIMEZONE
TZID:Asia/Manila
BEGIN:STANDARD
TZOFFSETFROM:+0800
TZOFFSETTO:+0800
TZNAME:PHT
DTSTART:20200101T000000
END:STANDARD
END:VTIMEZONE
BEGIN:VEVENT
DTSTART;TZID=Asia/Manila:20201118T093000
DTEND;TZID=Asia/Manila:20201118T130000
DTSTAMP:20260425T102353
CREATED:20201110T102729Z
LAST-MODIFIED:20201116T130116Z
UID:2691-1605691800-1605704400@sil-asia.org
SUMMARY:Driving Healthcare Innovation: Digital Solutions from Australia's Industry Leaders
DESCRIPTION:\nAsian Development Bank\, Australian Trade and Investment Commission\, and Standards and Interoperability Lab – Asia present you ‘Driving Healthcare Innovation: Digital Solutions from Australia’s Industry Leaders’ on November 18\, 2020 (9:30 AM – 1:00 PM PHT). This digital health forum with Australia-based technology providers will feature two panel sessions.\nRegister here: https://cutt.ly/digitalhealthforum\n\nPanel Session 1: Reimagining Digital Health in the Time of COVID-19 (9:30 AM – 11:00 AM PHT)\nDigital health is continuously evolving as a new field to address the growing demands in healthcare service delivery. The onset of the COVID-19 pandemic has compounded prevailing health issues\, such as insufficient clinical care\, shortage of medical equipment\, and lack of mechanisms in place for infection testing. In this session\, we will see how industry-grade digital interventions in healthcare help combat the pandemic.  \nThe session will convene industry leaders in digital health to share how their respective solutions can help address the COVID-19 pandemic. Specifically\, the session aims to: \n\nDescribe the specific challenges in healthcare that the digital health solution tries to resolve;\nCapture the process of designing digital health solutions for COVID-19; and\nDiscuss the benefits of implementing digital health solutions at the health facility level.\n\nFeatured digital technologies in this session are: \n\nGekko Medical designed and manufactured a ventilator for COVID-19 called ‘GeVentor.’ It was developed by globally experienced clinicians and researchers. Easy to use\, the unit has simple start-up procedures but with additional and more sophisticated functionality. GeVentor is a highly robust unit. Users can transport it in regional and more remote environments.\nKeyOptions developed Virolens™\, a COVID-19 screening device based on microscopic holographic imaging and artificial intelligence (AI) software technology. It uses a digital camera attached to a microscope to analyze saliva samples\, with the data run through a computer which is trained to identify the virus from other cells\, delivering an end result in just 20 seconds. \nCleanSpace offers ‘CleanSpace Halo\,’ a lightweight compact powered respirator designed by biomedical engineers. It is ergonomic and has minimal parts (no cables\, hoses\, or helmets). CleanSpace Halo is suitable for coronavirus and is used by hospitals in Australia and overseas. It is reusable and can provide high protection for biohazards.\n\n  \nPanel Session 2: Operationalizing Innovations in Healthcare Access and Delivery through Digital Health (11:30 AM – 1:00 PM PHT)\nDigital health has paved the way for innovative solutions to be adopted in healthcare access and delivery. One of these solutions is the use of artificial intelligence and machine learning in healthcare to support clinical decision making by healthcare providers. In this session\, we will see how data science can enable the transformation of healthcare operations. \nThe session will convene industry leaders in digital health to share how their respective solutions can operationalize innovations in healthcare access and delivery. Specifically\, the session aims to: \n\nDocument challenges encountered and lessons learned in using digital health for healthcare operations.\nDisseminate best practices from operationalizing digital health.\nDiscuss how data science can help improve health outcomes.\n\nFeatured digital technologies in this session are: \n\niSimulate provides smart simulation solutions that are used by organizations across the world. They use the best of current mobile technology to create products that are more realistic\, cost-effective\, and simpler to use than traditional solutions. The flexible simulation systems allow training anytime and anywhere.\nPresagen is an Artificial Intelligence (AI) technology company that co-creates AI products with healthcare facilities while preserving data privacy and sharing commercial value. It revolutionizes healthcare data by leveraging AI for a shared benefit to clinics and patients anywhere in the world.\nSt John’s Ambulance “First Aid without boundaries” Currently train 400\,000 people a year in Western Australia alone in face to face training. They have developed a digital first aid training tool with the aim to make first aid a part of everyone’s life. Digital training is now available via an app\, online and even virtual reality.\n\n
URL:http://sil-asia.org/event/driving-healthcare-innovation-digital-solutions-from-australias-industry-leaders/
LOCATION:https://cutt.ly/digitalhealthforum
ATTACH;FMTTYPE=image/png:http://sil-asia.org/wp-content/uploads/2020/11/Banner_November-18-Webinars-Updated-1.png
END:VEVENT
END:VCALENDAR