BEGIN:VCALENDAR
VERSION:2.0
PRODID:-//Standards and Interoperability Lab - Asia - ECPv4.9.13//NONSGML v1.0//EN
CALSCALE:GREGORIAN
METHOD:PUBLISH
X-WR-CALNAME:Standards and Interoperability Lab - Asia
X-ORIGINAL-URL:http://sil-asia.org
X-WR-CALDESC:Events for Standards and Interoperability Lab - Asia
BEGIN:VTIMEZONE
TZID:UTC
BEGIN:STANDARD
TZOFFSETFROM:+0000
TZOFFSETTO:+0000
TZNAME:UTC
DTSTART:20200101T000000
END:STANDARD
END:VTIMEZONE
BEGIN:VEVENT
DTSTART;TZID=UTC:20201208T190000
DTEND;TZID=UTC:20201208T201500
DTSTAMP:20260425T103010
CREATED:20201126T102957Z
LAST-MODIFIED:20201126T104134Z
UID:2732-1607454000-1607458500@sil-asia.org
SUMMARY:Establishment of a Reference Interoperability Lab in the Asia Pacific Region
DESCRIPTION:Standards and Interoperability Lab – Asia (SIL-Asia) will present about the ‘Establishment of a Reference Interoperability Lab in the Asia Pacific Region’ at the ‘Regional and Cross Health Systems Partnerships and Collaboration‘ panel of the Global Digital Health Forum 2020 on December 8\, 2020 at 7:00 – 8:15 PM PHT/ 6:00 – 7:15 AM EST. This panel session is part of the ‘Strategic Planning\, Financing\, and Capacity Building for Digital Health and Health System’ track of the virtual conference.\nIn this interactive workshop\, participants will see how interoperable digital health solutions can work together. To join\, please register with the Global Digital Health Forum 2020 here. \nIn this session\, we will present the experience of the Standards and Interoperability Lab – Asia in setting up a reference interoperability lab for the region. We will also present the various knowledge materials that the lab has developed. Lastly\, we will discuss with the participants how an interoperability lab set up can be replicated in their respective countries or health facilities. \nSpeaker: Prof. Philip Christian Zuniga \n
URL:http://sil-asia.org/event/establishment-of-a-reference-interoperability-lab-in-the-asia-pacific-region/
ATTACH;FMTTYPE=image/png:http://sil-asia.org/wp-content/uploads/2020/11/Workshop-Banner-6.png
END:VEVENT
END:VCALENDAR