BEGIN:VCALENDAR
VERSION:2.0
PRODID:-//Standards and Interoperability Lab - Asia - ECPv4.9.13//NONSGML v1.0//EN
CALSCALE:GREGORIAN
METHOD:PUBLISH
X-WR-CALNAME:Standards and Interoperability Lab - Asia
X-ORIGINAL-URL:http://sil-asia.org
X-WR-CALDESC:Events for Standards and Interoperability Lab - Asia
BEGIN:VTIMEZONE
TZID:Asia/Vientiane
BEGIN:STANDARD
TZOFFSETFROM:+0700
TZOFFSETTO:+0700
TZNAME:ICT
DTSTART:20210101T000000
END:STANDARD
END:VTIMEZONE
BEGIN:VEVENT
DTSTART;TZID=Asia/Vientiane:20210714T080000
DTEND;TZID=Asia/Vientiane:20210714T110000
DTSTAMP:20260425T114650
CREATED:20210813T044816Z
LAST-MODIFIED:20210813T051946Z
UID:3041-1626249600-1626260400@sil-asia.org
SUMMARY:FHIR Training with MOH Lao PDR Day 1
DESCRIPTION:Rationale\nIn March 2021\, the Lao People’s Democratic Republic (Lao PDR) just completed its first digital health convergence workshop. The event\, supported by AeHIN\, ADB and WHO lead to the development and identification of concrete plans on how digital health technologies can be deployed and used in the country. One of the key items identified is the need to adopt an international standard that can be used to facilitate health data exchange. The identified standard is the HL7 FHIR standard.  The HL7 FHIR standard is a critical tool to ensure the integration of the various digital health solutions that are being deployed/used in the country.  \nIntegration of these systems for them to work together is needed to ensure that timely and accurate data are available to the HMIS and to ensure that patient care whether in the primary care level or in more specialized levels can be maximized. The integration of these systems can be made possible if they are interoperable and adhere to standards. \nThe Asian Development Bank established the Standards and Interoperability Lab – Asia (SIL-Asia)  to serve as a public regional good for digital health expertise. The lab has worked with countries in the Asia Pacific region through capacity development and technical support in the implementation and integration of digital health systems.  \nThis concept note outlines how SIL-Asia could support the capacity development of the key digital health implementers in Lao PDR particularly on the use and adoption of the HL7 FHIR standard. \nLearning Objectives\nThe goal of this work plan is to improve the capacity of the Ministry of Health and other related entities in implementing an interoperable digital health ecosystem. The following are the detailed objectives: \n\nIncrease the technical knowledge of the Ministry of Health and other related entities on digital health\, governance\, architecture\, standards and interoperability\nImplement a series of HL7-FHIR Standards webinar based on a starter toolkit to build the Country’s capacity in implementing the FHIR standard \n\nDay 1 Topics\nA\, General Introduction \n\nPresentation of Enterprise Architecture\nOverview of Digital Health Foundations\nStandards and Interoperability\nInternational Health Profiles\n\nB. HL7 FHIR Overview \n
URL:http://sil-asia.org/event/fhir-training-with-moh-lao-pdr-day-1/
ATTACH;FMTTYPE=image/png:http://sil-asia.org/wp-content/uploads/2021/07/NEWS-19-08-16-13.png
END:VEVENT
END:VCALENDAR