BEGIN:VCALENDAR
VERSION:2.0
PRODID:-//Standards and Interoperability Lab - Asia - ECPv4.9.13//NONSGML v1.0//EN
CALSCALE:GREGORIAN
METHOD:PUBLISH
X-WR-CALNAME:Standards and Interoperability Lab - Asia
X-ORIGINAL-URL:http://sil-asia.org
X-WR-CALDESC:Events for Standards and Interoperability Lab - Asia
BEGIN:VTIMEZONE
TZID:UTC
BEGIN:STANDARD
TZOFFSETFROM:+0000
TZOFFSETTO:+0000
TZNAME:UTC
DTSTART:20210101T000000
END:STANDARD
END:VTIMEZONE
BEGIN:VEVENT
DTSTART;TZID=UTC:20210315T200000
DTEND;TZID=UTC:20210315T210000
DTSTAMP:20260425T130627
CREATED:20210315T105259Z
LAST-MODIFIED:20210315T105331Z
UID:2929-1615838400-1615842000@sil-asia.org
SUMMARY:Webinar: Interoperability Lab Starter Toolkit via AeHIN Hour
DESCRIPTION: \nDescription\nIn this webinar\, we will give an overview on the lab‘s Co-Creation Process in setting up an Interoperability Lab. \nThe co-creation process is a vital process that enables both the country and the Community of Interoperability Labs (COIL) to work together to ensure that the lab that will be set up will be responsive to the country’s needs and digital health gaps. \nSIL-Asia will present the three components of the Co-creation process (co-realization\, co-learning\, and co building) and discuss how these components can work both for the lab and for COIL. \n
URL:http://sil-asia.org/event/webinar-interoperability-lab-starter-toolkit-via-aehin-hour/
END:VEVENT
END:VCALENDAR